BEGIN:VCALENDAR
VERSION:2.0
PRODID:-//Ascend Dance Academy - ECPv6.15.20//NONSGML v1.0//EN
CALSCALE:GREGORIAN
METHOD:PUBLISH
X-WR-CALNAME:Ascend Dance Academy
X-ORIGINAL-URL:https://ascend.dance
X-WR-CALDESC:Events for Ascend Dance Academy
REFRESH-INTERVAL;VALUE=DURATION:PT1H
X-Robots-Tag:noindex
X-PUBLISHED-TTL:PT1H
BEGIN:VTIMEZONE
TZID:America/Denver
BEGIN:DAYLIGHT
TZOFFSETFROM:-0700
TZOFFSETTO:-0600
TZNAME:MDT
DTSTART:20240310T090000
END:DAYLIGHT
BEGIN:STANDARD
TZOFFSETFROM:-0600
TZOFFSETTO:-0700
TZNAME:MST
DTSTART:20241103T080000
END:STANDARD
BEGIN:DAYLIGHT
TZOFFSETFROM:-0700
TZOFFSETTO:-0600
TZNAME:MDT
DTSTART:20250309T090000
END:DAYLIGHT
BEGIN:STANDARD
TZOFFSETFROM:-0600
TZOFFSETTO:-0700
TZNAME:MST
DTSTART:20251102T080000
END:STANDARD
BEGIN:DAYLIGHT
TZOFFSETFROM:-0700
TZOFFSETTO:-0600
TZNAME:MDT
DTSTART:20260308T090000
END:DAYLIGHT
BEGIN:STANDARD
TZOFFSETFROM:-0600
TZOFFSETTO:-0700
TZNAME:MST
DTSTART:20261101T080000
END:STANDARD
BEGIN:DAYLIGHT
TZOFFSETFROM:-0700
TZOFFSETTO:-0600
TZNAME:MDT
DTSTART:20270314T090000
END:DAYLIGHT
BEGIN:STANDARD
TZOFFSETFROM:-0600
TZOFFSETTO:-0700
TZNAME:MST
DTSTART:20271107T080000
END:STANDARD
END:VTIMEZONE
BEGIN:VEVENT
DTSTART;VALUE=DATE:20260316
DTEND;VALUE=DATE:20260322
DTSTAMP:20260423T131941
CREATED:20230706T184931Z
LAST-MODIFIED:20250528T211754Z
UID:21808-1773619200-1774137599@ascend.dance
SUMMARY:Spring Break
DESCRIPTION:
URL:https://ascend.dance/studio-calendar/spring-break/
END:VEVENT
BEGIN:VEVENT
DTSTART;VALUE=DATE:20260309
DTEND;VALUE=DATE:20260315
DTSTAMP:20260423T131941
CREATED:20230706T184414Z
LAST-MODIFIED:20250528T211714Z
UID:21794-1773014400-1773532799@ascend.dance
SUMMARY:Observation Week
DESCRIPTION:
URL:https://ascend.dance/studio-calendar/observation-week/
END:VEVENT
BEGIN:VEVENT
DTSTART;VALUE=DATE:20260105
DTEND;VALUE=DATE:20260106
DTSTAMP:20260423T131941
CREATED:20230706T184815Z
LAST-MODIFIED:20250528T211511Z
UID:21804-1767571200-1767657599@ascend.dance
SUMMARY:First Day After Winter Break
DESCRIPTION:
URL:https://ascend.dance/studio-calendar/classes-resume/
END:VEVENT
BEGIN:VEVENT
DTSTART;VALUE=DATE:20251221
DTEND;VALUE=DATE:20260105
DTSTAMP:20260423T131941
CREATED:20230706T184748Z
LAST-MODIFIED:20250528T211545Z
UID:21802-1766275200-1767571199@ascend.dance
SUMMARY:Winter Break
DESCRIPTION:
URL:https://ascend.dance/studio-calendar/winter-break/
END:VEVENT
BEGIN:VEVENT
DTSTART;VALUE=DATE:20251213
DTEND;VALUE=DATE:20251215
DTSTAMP:20260423T131941
CREATED:20230706T184628Z
LAST-MODIFIED:20250528T211432Z
UID:21800-1765584000-1765756799@ascend.dance
SUMMARY:Nutcracker Performances
DESCRIPTION:
URL:https://ascend.dance/studio-calendar/nutcracker-performances/
END:VEVENT
BEGIN:VEVENT
DTSTART;VALUE=DATE:20251206
DTEND;VALUE=DATE:20251208
DTSTAMP:20260423T131941
CREATED:20230706T184542Z
LAST-MODIFIED:20250528T211440Z
UID:21798-1764979200-1765151999@ascend.dance
SUMMARY:Nutcracker Dress Rehearsal
DESCRIPTION:
URL:https://ascend.dance/studio-calendar/nutcracker-theater-dress-rehearsal/
END:VEVENT
BEGIN:VEVENT
DTSTART;VALUE=DATE:20251125
DTEND;VALUE=DATE:20251130
DTSTAMP:20260423T131941
CREATED:20230706T184501Z
LAST-MODIFIED:20250528T211315Z
UID:21796-1764028800-1764460799@ascend.dance
SUMMARY:Thanksgiving Break
DESCRIPTION:
URL:https://ascend.dance/studio-calendar/thanksgiving-break/
END:VEVENT
BEGIN:VEVENT
DTSTART;VALUE=DATE:20251031
DTEND;VALUE=DATE:20251101
DTSTAMP:20260423T131941
CREATED:20240712T193612Z
LAST-MODIFIED:20250528T211304Z
UID:22730-1761868800-1761955199@ascend.dance
SUMMARY:No Classes Halloween
DESCRIPTION:Closed for Halloween
URL:https://ascend.dance/studio-calendar/no-classes-halloween/
END:VEVENT
BEGIN:VEVENT
DTSTART;VALUE=DATE:20251013
DTEND;VALUE=DATE:20251019
DTSTAMP:20260423T131941
CREATED:20230706T184851Z
LAST-MODIFIED:20250728T204229Z
UID:21806-1760313600-1760831999@ascend.dance
SUMMARY:Observation Week
DESCRIPTION:
URL:https://ascend.dance/studio-calendar/observation-week-2/
END:VEVENT
BEGIN:VEVENT
DTSTART;VALUE=DATE:20250901
DTEND;VALUE=DATE:20250902
DTSTAMP:20260423T131941
CREATED:20230706T184339Z
LAST-MODIFIED:20250528T211229Z
UID:21792-1756684800-1756771199@ascend.dance
SUMMARY:No Classes Labor Day
DESCRIPTION:Closed for Labor Day
URL:https://ascend.dance/studio-calendar/no-classes/
END:VEVENT
BEGIN:VEVENT
DTSTART;VALUE=DATE:20250811
DTEND;VALUE=DATE:20250812
DTSTAMP:20260423T131941
CREATED:20230706T184305Z
LAST-MODIFIED:20250528T211124Z
UID:21790-1754870400-1754956799@ascend.dance
SUMMARY:First Day of Classes
DESCRIPTION:
URL:https://ascend.dance/studio-calendar/first-day-of-classes/
END:VEVENT
END:VCALENDAR